BEGIN:VCALENDAR
VERSION:2.0
PRODID:-//Bethel Church - ECPv5.1.5//NONSGML v1.0//EN
CALSCALE:GREGORIAN
METHOD:PUBLISH
X-WR-CALNAME:Bethel Church
X-ORIGINAL-URL:http://wearebethelites.org
X-WR-CALDESC:Events for Bethel Church
BEGIN:VTIMEZONE
TZID:UTC
BEGIN:STANDARD
TZOFFSETFROM:+0000
TZOFFSETTO:+0000
TZNAME:UTC
DTSTART:20230101T000000
END:STANDARD
END:VTIMEZONE
BEGIN:VEVENT
DTSTART;TZID=UTC:20230328T150000
DTEND;TZID=UTC:20230328T160000
DTSTAMP:20260421T114716
CREATED:20230321T041228Z
LAST-MODIFIED:20230321T041228Z
UID:1923-1680015600-1680019200@wearebethelites.org
SUMMARY:Hangout with RCF
DESCRIPTION:Our student expression at the University of Illinois at Chicago (UIC)\, Redeemed Christian Church of God North America Campus Fellowship (RCF) will be having a hangout on Tuesday\, March 28\, 2023 from 3:00 pm – 4:00 pm at 750 S Halsted street Chicago IL\, room 603. RSVP here or bit.ly/hangoutwithrcf to attend! \n
URL:http://wearebethelites.org/event/hangout-with-rcf/
LOCATION:University of Illinois at Chicago\, 750 S Halsted Street\, Chicago\, United States
ATTACH;FMTTYPE=image/png:http://wearebethelites.org/wp-content/uploads/2023/03/Hangout-RCF0-1.png
END:VEVENT
END:VCALENDAR