BEGIN:VCALENDAR
VERSION:2.0
PRODID:-//Bethel Church - ECPv5.1.5//NONSGML v1.0//EN
CALSCALE:GREGORIAN
METHOD:PUBLISH
X-WR-CALNAME:Bethel Church
X-ORIGINAL-URL:http://wearebethelites.org
X-WR-CALDESC:Events for Bethel Church
BEGIN:VTIMEZONE
TZID:UTC
BEGIN:STANDARD
TZOFFSETFROM:+0000
TZOFFSETTO:+0000
TZNAME:UTC
DTSTART:20230101T000000
END:STANDARD
END:VTIMEZONE
BEGIN:VEVENT
DTSTART;TZID=UTC:20230401T150000
DTEND;TZID=UTC:20230401T180000
DTSTAMP:20260421T163948
CREATED:20230327T165710Z
LAST-MODIFIED:20230327T171658Z
UID:1947-1680361200-1680372000@wearebethelites.org
SUMMARY:NIKOS Day 3 | Empowerment Service for Leaders
DESCRIPTION:Are you a leader or have the intensions of becoming a leader in future? If yes\, please join us for the NIKOS leadership empowerment session on Saturday\, April 1\, 2023 at 3:00pm. \n \n
URL:http://wearebethelites.org/event/nikos-day-3-empowerment-service-for-leaders/
LOCATION:Victory House Chicago\, 4350 W Parker Avenue\, Chicago\, 60639\, United States
ATTACH;FMTTYPE=image/jpeg:http://wearebethelites.org/wp-content/uploads/2023/03/HD-1ST-APR.jpg
END:VEVENT
END:VCALENDAR