BEGIN:VCALENDAR
VERSION:2.0
PRODID:-//Bethel Church - ECPv5.1.5//NONSGML v1.0//EN
CALSCALE:GREGORIAN
METHOD:PUBLISH
X-WR-CALNAME:Bethel Church
X-ORIGINAL-URL:http://wearebethelites.org
X-WR-CALDESC:Events for Bethel Church
BEGIN:VTIMEZONE
TZID:America/Chicago
BEGIN:DAYLIGHT
TZOFFSETFROM:-0600
TZOFFSETTO:-0500
TZNAME:CDT
DTSTART:20230312T080000
END:DAYLIGHT
BEGIN:STANDARD
TZOFFSETFROM:-0500
TZOFFSETTO:-0600
TZNAME:CST
DTSTART:20231105T070000
END:STANDARD
END:VTIMEZONE
BEGIN:VEVENT
DTSTART;TZID=America/Chicago:20230330T190000
DTEND;TZID=America/Chicago:20230330T220000
DTSTAMP:20260421T132002
CREATED:20230327T164741Z
LAST-MODIFIED:20230327T171958Z
UID:1940-1680202800-1680213600@wearebethelites.org
SUMMARY:NIKOS | Prevail | Day 1
DESCRIPTION:The time to Prevail is now! Starting Thursday\, March 30 at 7:00pm\, join us for NIKOS 2023! This is going to be an encounter like no other. \n \n
URL:http://wearebethelites.org/event/nikos-prevail-day-1/
LOCATION:Victory House Chicago\, 4350 W Parker Avenue\, Chicago\, 60639\, United States
ATTACH;FMTTYPE=image/jpeg:http://wearebethelites.org/wp-content/uploads/2023/03/IMG_2828.jpg
END:VEVENT
END:VCALENDAR