BEGIN:VCALENDAR
VERSION:2.0
PRODID:-//Bethel Church - ECPv5.1.5//NONSGML v1.0//EN
CALSCALE:GREGORIAN
METHOD:PUBLISH
X-WR-CALNAME:Bethel Church
X-ORIGINAL-URL:http://wearebethelites.org
X-WR-CALDESC:Events for Bethel Church
BEGIN:VTIMEZONE
TZID:UTC
BEGIN:STANDARD
TZOFFSETFROM:+0000
TZOFFSETTO:+0000
TZNAME:UTC
DTSTART:20230101T000000
END:STANDARD
END:VTIMEZONE
BEGIN:VEVENT
DTSTART;TZID=UTC:20230331T190000
DTEND;TZID=UTC:20230331T220000
DTSTAMP:20260421T151424
CREATED:20230327T165140Z
LAST-MODIFIED:20230327T171756Z
UID:1945-1680289200-1680300000@wearebethelites.org
SUMMARY:NIKOS | Prevail | Day 2
DESCRIPTION:As we continue to prevail in this season\, join us for day 2 of NIKOS as we experience God in another dimension on Friday\, March 31\, 2023 at 7:00pm. \n \n
URL:http://wearebethelites.org/event/nikos-prevail-day-2/
LOCATION:Victory House Chicago\, 4350 W Parker Avenue\, Chicago\, 60639\, United States
ATTACH;FMTTYPE=image/jpeg:http://wearebethelites.org/wp-content/uploads/2023/03/WALL-FULL-DETAILS-.jpg
END:VEVENT
END:VCALENDAR