BEGIN:VCALENDAR
VERSION:2.0
PRODID:-//Bethel Church - ECPv5.1.5//NONSGML v1.0//EN
CALSCALE:GREGORIAN
METHOD:PUBLISH
X-WR-CALNAME:Bethel Church
X-ORIGINAL-URL:http://wearebethelites.org
X-WR-CALDESC:Events for Bethel Church
BEGIN:VTIMEZONE
TZID:UTC
BEGIN:STANDARD
TZOFFSETFROM:+0000
TZOFFSETTO:+0000
TZNAME:UTC
DTSTART:20230101T000000
END:STANDARD
END:VTIMEZONE
BEGIN:VEVENT
DTSTART;TZID=UTC:20230618T090000
DTEND;TZID=UTC:20230618T100000
DTSTAMP:20260421T202444
CREATED:20230612T164951Z
LAST-MODIFIED:20230612T164951Z
UID:1991-1687078800-1687082400@wearebethelites.org
SUMMARY:Road to Luv 4 Eva with Pastor Kingsley Okonkwo
DESCRIPTION: \nJoin us live to learn more on how to thrive on the road to love forever with Pastor Kingsley Okonkwo on Sunday\, June 18 from 9am at 4352 W Parker Avenue Chicago IL or YouTube. \n
URL:http://wearebethelites.org/event/road-to-luv-4-eva-with-pastor-kingsley-okonkwo/
LOCATION:Bethel Church\, 4350 W Parker Ave\, Chicago\, IL\, 60639\, United States
ATTACH;FMTTYPE=image/png:http://wearebethelites.org/wp-content/uploads/2023/06/Luv-4-Eva.png
END:VEVENT
END:VCALENDAR